BEGIN:VCALENDAR
VERSION:2.0
PRODID:-//DIOCESI DI ROMA - ECPv4.6.14.1//NONSGML v1.0//EN
CALSCALE:GREGORIAN
METHOD:PUBLISH
X-WR-CALNAME:DIOCESI DI ROMA
X-ORIGINAL-URL:https://www.diocesidiroma.it
X-WR-CALDESC:Eventi per DIOCESI DI ROMA
BEGIN:VEVENT
DTSTART;TZID=Europe/Rome:20250607T160000
DTEND;TZID=Europe/Rome:20250607T160000
DTSTAMP:20260424T121625
CREATED:20250530T092024Z
LAST-MODIFIED:20250530T092024Z
UID:35904-1749312000-1749312000@www.diocesidiroma.it
SUMMARY:Cresime presso la parrocchia Santa Maria Immacolata di Lourdes
DESCRIPTION:Cresime presso la parrocchia Santa Maria Immacolata di Lourdes \n
URL:https://www.diocesidiroma.it/event/cresime-presso-la-parrocchia-santa-maria-immacolata-di-lourdes/
CATEGORIES:Vicario Generale
END:VEVENT
END:VCALENDAR