BEGIN:VCALENDAR
VERSION:2.0
PRODID:-//DIOCESI DI ROMA - ECPv4.6.14.1//NONSGML v1.0//EN
CALSCALE:GREGORIAN
METHOD:PUBLISH
X-WR-CALNAME:DIOCESI DI ROMA
X-ORIGINAL-URL:https://www.diocesidiroma.it
X-WR-CALDESC:Eventi per DIOCESI DI ROMA
BEGIN:VEVENT
DTSTART;VALUE=DATE:20180714
DTEND;VALUE=DATE:20180715
DTSTAMP:20260426T023439
CREATED:20180709T083313Z
LAST-MODIFIED:20180709T093026Z
UID:3782-1531526400-1531612799@www.diocesidiroma.it
SUMMARY:Dal 7 al  14 luglio in Val di Fassa...
DESCRIPTION:Da sabato 7 a sabato 14 luglio\nPartecipa in Val di Fassa alla settimana di fraternità organizzata dal Servizio per la Formazione Permanente per i sacerdoti al 10°\, 20°\, 30° anno di ordinazione. \n
URL:https://www.diocesidiroma.it/event/dal-7-al-14-luglio-in-val-di-fassa/
CATEGORIES:NON USARE --- Agenda del Vicario
END:VEVENT
END:VCALENDAR