BEGIN:VCALENDAR
VERSION:2.0
PRODID:-//DIOCESI DI ROMA - ECPv4.6.14.1//NONSGML v1.0//EN
CALSCALE:GREGORIAN
METHOD:PUBLISH
X-WR-CALNAME:DIOCESI DI ROMA
X-ORIGINAL-URL:https://www.diocesidiroma.it
X-WR-CALDESC:Eventi per DIOCESI DI ROMA
BEGIN:VEVENT
DTSTART;TZID=Europe/Rome:20180619T083000
DTEND;TZID=Europe/Rome:20180619T170000
DTSTAMP:20260420T225430
CREATED:20180615T072418Z
LAST-MODIFIED:20180615T075409Z
UID:3628-1529397000-1529427600@www.diocesidiroma.it
SUMMARY:Dalle ore 8\,30 Riceve i sacerdoti.
DESCRIPTION:Dalle ore 8\,30 Riceve i sacerdoti. \n
URL:https://www.diocesidiroma.it/event/dalle-ore-830-incontra-i-sacerdoti-5/
CATEGORIES:NON USARE --- Agenda del Vicario
END:VEVENT
END:VCALENDAR