BEGIN:VCALENDAR
VERSION:2.0
PRODID:-//DIOCESI DI ROMA - ECPv4.6.14.1//NONSGML v1.0//EN
CALSCALE:GREGORIAN
METHOD:PUBLISH
X-WR-CALNAME:DIOCESI DI ROMA
X-ORIGINAL-URL:https://www.diocesidiroma.it
X-WR-CALDESC:Eventi per DIOCESI DI ROMA
BEGIN:VEVENT
DTSTART;TZID=Europe/Rome:20180717T083000
DTEND;TZID=Europe/Rome:20180717T083000
DTSTAMP:20260426T033156
CREATED:20180713T103216Z
LAST-MODIFIED:20180713T103250Z
UID:3986-1531816200-1531816200@www.diocesidiroma.it
SUMMARY:Dalle ore 8\,30 riceve i sacerdoti.
DESCRIPTION:Dalle ore 8\,30 riceve i sacerdoti. \n
URL:https://www.diocesidiroma.it/event/dalle-ore-830-ricevei-sacerdoti/
CATEGORIES:NON USARE --- Agenda del Vicario
END:VEVENT
END:VCALENDAR