BEGIN:VCALENDAR
VERSION:2.0
PRODID:-//DIOCESI DI ROMA - ECPv4.6.14.1//NONSGML v1.0//EN
CALSCALE:GREGORIAN
METHOD:PUBLISH
X-WR-CALNAME:DIOCESI DI ROMA
X-ORIGINAL-URL:https://www.diocesidiroma.it
X-WR-CALDESC:Eventi per DIOCESI DI ROMA
BEGIN:VEVENT
DTSTART;TZID=Europe/Rome:20240329T090000
DTEND;TZID=Europe/Rome:20240329T090000
DTSTAMP:20260424T152303
CREATED:20240322T080739Z
LAST-MODIFIED:20240322T080739Z
UID:29268-1711702800-1711702800@www.diocesidiroma.it
SUMMARY:Dalle ore 9 nella basilica di San Giovanni in Laterano amministra il Sacramento della Riconciliazione
DESCRIPTION:Dalle ore 9 nella basilica di San Giovanni in Laterano amministra il Sacramento della Riconciliazione \n
URL:https://www.diocesidiroma.it/event/dalle-ore-9-nella-basilica-di-san-giovanni-in-laterano-amministra-il-sacramento-della-riconciliazione/
CATEGORIES:NON USARE --- Agenda del Vicario
END:VEVENT
END:VCALENDAR