BEGIN:VCALENDAR
VERSION:2.0
PRODID:-//DIOCESI DI ROMA - ECPv4.6.14.1//NONSGML v1.0//EN
CALSCALE:GREGORIAN
METHOD:PUBLISH
X-WR-CALNAME:DIOCESI DI ROMA
X-ORIGINAL-URL:https://www.diocesidiroma.it
X-WR-CALDESC:Eventi per DIOCESI DI ROMA
BEGIN:VEVENT
DTSTART;TZID=Europe/Rome:20260225T183000
DTEND;TZID=Europe/Rome:20260225T200000
DTSTAMP:20260421T025417
CREATED:20251111T150842Z
LAST-MODIFIED:20251111T150842Z
UID:38511-1772044200-1772049600@www.diocesidiroma.it
SUMMARY:"Dammi da bere - La sete di chi vive il tempo della fragilità" - Incontri di formazione per operatori di pastorale sanitaria al Pontificio Seminario Maggiore (Uff. Pastorale Sanitaria)
DESCRIPTION:“Dammi da bere – La sete di chi vive il tempo della fragilità” – Incontri di formazione per operatori di pastorale sanitaria al Pontificio Seminario Maggiore (Uff. Pastorale Sanitaria) \n
URL:https://www.diocesidiroma.it/event/dammi-da-bere-la-sete-di-chi-vive-il-tempo-della-fragilita-incontri-di-formazione-per-operatori-di-pastorale-sanitaria-al-pontificio-seminario-maggiore-uff-pastorale-sanitaria-3/
CATEGORIES:Iniziative degli Uffici
END:VEVENT
END:VCALENDAR