BEGIN:VCALENDAR
VERSION:2.0
PRODID:-//DIOCESI DI ROMA - ECPv4.6.14.1//NONSGML v1.0//EN
CALSCALE:GREGORIAN
METHOD:PUBLISH
X-WR-CALNAME:DIOCESI DI ROMA
X-ORIGINAL-URL:https://www.diocesidiroma.it
X-WR-CALDESC:Eventi per DIOCESI DI ROMA
BEGIN:VEVENT
DTSTART;TZID=Europe/Rome:20231109T173000
DTEND;TZID=Europe/Rome:20231109T173000
DTSTAMP:20260421T030253
CREATED:20231006T084646Z
LAST-MODIFIED:20231006T084646Z
UID:27523-1699551000-1699551000@www.diocesidiroma.it
SUMMARY:Dedicazione della Basilica Lateranense - Celebrazione eucaristica presieduta dal Cardinale Vicario con i sacerdoti che compiono il 25°\, 50° e 60° anno di ordinazione - Basilica di San Giovanni in Laterano
DESCRIPTION:Dedicazione della Basilica Lateranense – Celebrazione eucaristica presieduta dal Cardinale Vicario con i sacerdoti che compiono il 25°\, 50° e 60° anno di ordinazione – Basilica di San Giovanni in Laterano  \n
URL:https://www.diocesidiroma.it/event/dedicazione-della-basilica-lateranense-celebrazione-eucaristica-presieduta-dal-cardinale-vicario-con-i-sacerdoti-che-compiono-il-25-50-e-60-anno-di-ordinazione-basilica-di-san-g/
CATEGORIES:In Diocesi
END:VEVENT
END:VCALENDAR