BEGIN:VCALENDAR
VERSION:2.0
PRODID:-//DIOCESI DI ROMA - ECPv4.6.14.1//NONSGML v1.0//EN
CALSCALE:GREGORIAN
METHOD:PUBLISH
X-WR-CALNAME:DIOCESI DI ROMA
X-ORIGINAL-URL:https://www.diocesidiroma.it
X-WR-CALDESC:Eventi per DIOCESI DI ROMA
BEGIN:VEVENT
DTSTART;TZID=Europe/Rome:20201109T173000
DTEND;TZID=Europe/Rome:20201109T173000
DTSTAMP:20260425T160023
CREATED:20200923T153749Z
LAST-MODIFIED:20200923T153749Z
UID:11772-1604943000-1604943000@www.diocesidiroma.it
SUMMARY:Dedicazione della basilica lateranense. Messa capitolare presieduta dal cardinale vicario
DESCRIPTION:Dedicazione della basilica lateranense. Messa capitolare presieduta dal cardinale vicario Angelo De Donatis. \n
URL:https://www.diocesidiroma.it/event/dedicazione-della-basilica-lateranense-messa-capitolare-presieduta-dal-cardinale-vicario/
CATEGORIES:In Diocesi
END:VEVENT
END:VCALENDAR