BEGIN:VCALENDAR
VERSION:2.0
PRODID:-//DIOCESI DI ROMA - ECPv4.6.14.1//NONSGML v1.0//EN
CALSCALE:GREGORIAN
METHOD:PUBLISH
X-WR-CALNAME:DIOCESI DI ROMA
X-ORIGINAL-URL:https://www.diocesidiroma.it
X-WR-CALDESC:Eventi per DIOCESI DI ROMA
BEGIN:VEVENT
DTSTART;VALUE=DATE:20171101
DTEND;VALUE=DATE:20171102
DTSTAMP:20260425T010353
CREATED:20171228T114148Z
LAST-MODIFIED:20171228T114148Z
UID:377-1509494400-1509580799@www.diocesidiroma.it
SUMMARY:Distribuzione nei cimiteri del sussidio della preghiera per i defunti
DESCRIPTION:
URL:https://www.diocesidiroma.it/event/distribuzione-nei-cimiteri-del-sussidio-della-preghiera-per-i-defunti/
CATEGORIES:Iniziative degli Uffici
END:VEVENT
END:VCALENDAR