BEGIN:VCALENDAR
VERSION:2.0
PRODID:-//DIOCESI DI ROMA - ECPv4.6.14.1//NONSGML v1.0//EN
CALSCALE:GREGORIAN
METHOD:PUBLISH
X-WR-CALNAME:DIOCESI DI ROMA
X-ORIGINAL-URL:https://www.diocesidiroma.it
X-WR-CALDESC:Eventi per DIOCESI DI ROMA
BEGIN:VEVENT
DTSTART;TZID=Europe/Rome:20200924T000000
DTEND;TZID=Europe/Rome:20200924T000000
DTSTAMP:20260420T213203
CREATED:20200917T071933Z
LAST-MODIFIED:20200917T071933Z
UID:11619-1600905600-1600905600@www.diocesidiroma.it
SUMMARY:Elezione Consiglio dei Prefetti e Consiglio Presbiterale
DESCRIPTION:Elezione Consiglio dei Prefetti e Consiglio Presbiterale \n
URL:https://www.diocesidiroma.it/event/elezione-consiglio-dei-prefetti-e-consiglio-presbiterale/
CATEGORIES:In Diocesi
END:VEVENT
END:VCALENDAR