BEGIN:VCALENDAR
VERSION:2.0
PRODID:-//DIOCESI DI ROMA - ECPv4.6.14.1//NONSGML v1.0//EN
CALSCALE:GREGORIAN
METHOD:PUBLISH
X-WR-CALNAME:DIOCESI DI ROMA
X-ORIGINAL-URL:https://www.diocesidiroma.it
X-WR-CALDESC:Eventi per DIOCESI DI ROMA
BEGIN:VEVENT
DTSTART;TZID=Europe/Rome:20231012T000000
DTEND;TZID=Europe/Rome:20231012T000000
DTSTAMP:20260423T133340
CREATED:20231006T071653Z
LAST-MODIFIED:20231006T071731Z
UID:27461-1697068800-1697068800@www.diocesidiroma.it
SUMMARY:Esami del Triennio del Corso di Liturgia per la pastorale - Pontificio Istituto Liturgico Sant'Anselmo (Uff. form. liturgica)
DESCRIPTION:Esami del Triennio del Corso di Liturgia per la pastorale – Pontificio Istituto Liturgico Sant’Anselmo (Uff. form. liturgica) \n
URL:https://www.diocesidiroma.it/event/esami-del-triennio-del-corso-di-liturgia-per-la-pastorale-pontificio-istituto-liturgico-santanselmo-uff-form-liturgica/
CATEGORIES:In Diocesi,Iniziative degli Uffici
END:VEVENT
END:VCALENDAR