BEGIN:VCALENDAR
VERSION:2.0
PRODID:-//DIOCESI DI ROMA - ECPv4.6.14.1//NONSGML v1.0//EN
CALSCALE:GREGORIAN
METHOD:PUBLISH
X-WR-CALNAME:DIOCESI DI ROMA
X-ORIGINAL-URL:https://www.diocesidiroma.it
X-WR-CALDESC:Eventi per DIOCESI DI ROMA
BEGIN:VEVENT
DTSTART;TZID=Europe/Rome:20190107T000000
DTEND;TZID=Europe/Rome:20190111T000000
DTSTAMP:20260423T092707
CREATED:20181003T123704Z
LAST-MODIFIED:20181003T123704Z
UID:4830-1546819200-1547164800@www.diocesidiroma.it
SUMMARY:Esercizi spirituali a Fatima
DESCRIPTION:Esercizi spirituali a Fatima. \n
URL:https://www.diocesidiroma.it/event/esercizi-spirituali-a-fatima/
CATEGORIES:In Diocesi
END:VEVENT
END:VCALENDAR