BEGIN:VCALENDAR
VERSION:2.0
PRODID:-//DIOCESI DI ROMA - ECPv4.6.14.1//NONSGML v1.0//EN
CALSCALE:GREGORIAN
METHOD:PUBLISH
X-WR-CALNAME:DIOCESI DI ROMA
X-ORIGINAL-URL:https://www.diocesidiroma.it
X-WR-CALDESC:Eventi per DIOCESI DI ROMA
BEGIN:VEVENT
DTSTART;TZID=Europe/Rome:20181105T000000
DTEND;TZID=Europe/Rome:20181109T000000
DTSTAMP:20260421T074653
CREATED:20180912T143004Z
LAST-MODIFIED:20180913T070442Z
UID:4456-1541376000-1541721600@www.diocesidiroma.it
SUMMARY:Esercizi spirituali ad Ariccia predicati dal cardinale vicario
DESCRIPTION:Esercizi spirituali ad Ariccia per i vescovi ausiliari\, i direttori degli uffici\, i parroci prefetti e i rettori dei seminari predicati dal cardinale vicario. \n
URL:https://www.diocesidiroma.it/event/esercizi-spirituali-ad-ariccia-predicati-dal-cardinale-vicario/
CATEGORIES:NON USARE --- Agenda del Vicario
END:VEVENT
END:VCALENDAR