BEGIN:VCALENDAR
VERSION:2.0
PRODID:-//DIOCESI DI ROMA - ECPv4.6.14.1//NONSGML v1.0//EN
CALSCALE:GREGORIAN
METHOD:PUBLISH
X-WR-CALNAME:DIOCESI DI ROMA
X-ORIGINAL-URL:https://www.diocesidiroma.it
X-WR-CALDESC:Eventi per DIOCESI DI ROMA
BEGIN:VEVENT
DTSTART;TZID=Europe/Rome:20240108T000000
DTEND;TZID=Europe/Rome:20240113T000000
DTSTAMP:20260422T013516
CREATED:20240102T104306Z
LAST-MODIFIED:20240102T104306Z
UID:28246-1704672000-1705104000@www.diocesidiroma.it
SUMMARY:Esercizi spirituali per i sacerdoti\, diaconi e consacrati a Fatima
DESCRIPTION:Esercizi spirituali per i sacerdoti\, diaconi e consacrati a Fatima  \n
URL:https://www.diocesidiroma.it/event/esercizi-spirituali-per-i-sacerdoti-diaconi-e-consacrati-a-fatima/
CATEGORIES:In Diocesi
END:VEVENT
END:VCALENDAR