BEGIN:VCALENDAR
VERSION:2.0
PRODID:-//DIOCESI DI ROMA - ECPv4.6.14.1//NONSGML v1.0//EN
CALSCALE:GREGORIAN
METHOD:PUBLISH
X-WR-CALNAME:DIOCESI DI ROMA
X-ORIGINAL-URL:https://www.diocesidiroma.it
X-WR-CALDESC:Eventi per DIOCESI DI ROMA
BEGIN:VEVENT
DTSTART;TZID=Europe/Rome:20181105T000000
DTEND;TZID=Europe/Rome:20181112T000000
DTSTAMP:20260421T165137
CREATED:20180912T142836Z
LAST-MODIFIED:20180913T070040Z
UID:4454-1541376000-1541980800@www.diocesidiroma.it
SUMMARY:Esercizi spirituali per i sacerdoti in Terra Santa
DESCRIPTION:Esercizi spirituali per i sacerdoti in Terra Santa. \n
URL:https://www.diocesidiroma.it/event/esercizi-spirituali-per-i-sacerdoti-in-terra-santa/
CATEGORIES:In Diocesi
END:VEVENT
END:VCALENDAR