BEGIN:VCALENDAR
VERSION:2.0
PRODID:-//DIOCESI DI ROMA - ECPv4.6.14.1//NONSGML v1.0//EN
CALSCALE:GREGORIAN
METHOD:PUBLISH
X-WR-CALNAME:DIOCESI DI ROMA
X-ORIGINAL-URL:https://www.diocesidiroma.it
X-WR-CALDESC:Eventi per DIOCESI DI ROMA
BEGIN:VEVENT
DTSTART;TZID=Europe/Rome:20231106T000000
DTEND;TZID=Europe/Rome:20231110T000000
DTSTAMP:20260421T030220
CREATED:20231006T084358Z
LAST-MODIFIED:20231006T084358Z
UID:27517-1699228800-1699574400@www.diocesidiroma.it
SUMMARY:Esercizi spirituali per i Vescovi Ausiliari\, i Prefetti e i Direttori ed Incaricati degli Uffici del Vicariato - guidati da Dom Antonio Luca Fallica\, O.S.B. - Centro Sacro Cuore di Gesù\, Rocca di Papa
DESCRIPTION:Esercizi spirituali per i Vescovi Ausiliari\, i Prefetti e i Direttori ed Incaricati degli Uffici del Vicariato – guidati da Dom Antonio Luca Fallica\, O.S.B. – Centro Sacro Cuore di Gesù\, Rocca di Papa  \n
URL:https://www.diocesidiroma.it/event/esercizi-spirituali-per-i-vescovi-ausiliari-i-prefetti-e-i-direttori-ed-incaricati-degli-uffici-del-vicariato-guidati-da-dom-antonio-luca-fallica-o-s-b-centro-sacro-cuore-di-gesu-rocca-di-papa/
CATEGORIES:In Diocesi,Iniziative degli Uffici
END:VEVENT
END:VCALENDAR