BEGIN:VCALENDAR
VERSION:2.0
PRODID:-//DIOCESI DI ROMA - ECPv4.6.14.1//NONSGML v1.0//EN
CALSCALE:GREGORIAN
METHOD:PUBLISH
X-WR-CALNAME:DIOCESI DI ROMA
X-ORIGINAL-URL:https://www.diocesidiroma.it
X-WR-CALDESC:Eventi per DIOCESI DI ROMA
BEGIN:VEVENT
DTSTART;TZID=Europe/Rome:20231120T000000
DTEND;TZID=Europe/Rome:20231124T000000
DTSTAMP:20260421T092607
CREATED:20231006T092004Z
LAST-MODIFIED:20231006T092043Z
UID:27558-1700438400-1700784000@www.diocesidiroma.it
SUMMARY:Esercizi spirituali per i Vicari parrocchiali guidati da S.E. Mons. Paolo Ricciardi - Monastero della Resurezzione\, Montefiolo
DESCRIPTION:Esercizi spirituali per i Vicari parrocchiali guidati da S.E. Mons. Paolo Ricciardi – Monastero della Resurezzione\, Montefiolo \n
URL:https://www.diocesidiroma.it/event/esercizi-spirituali-per-i-vicari-parrocchiali-guidati-da-s-e-mons-paolo-ricciardi-monastero-della-resurezzione-montefiolo/
CATEGORIES:In Diocesi,Iniziative degli Uffici
END:VEVENT
END:VCALENDAR