BEGIN:VCALENDAR
VERSION:2.0
PRODID:-//DIOCESI DI ROMA - ECPv4.6.14.1//NONSGML v1.0//EN
CALSCALE:GREGORIAN
METHOD:PUBLISH
X-WR-CALNAME:DIOCESI DI ROMA
X-ORIGINAL-URL:https://www.diocesidiroma.it
X-WR-CALDESC:Eventi per DIOCESI DI ROMA
BEGIN:VEVENT
DTSTART;TZID=Europe/Rome:20251102T200000
DTEND;TZID=Europe/Rome:20251108T080000
DTSTAMP:20260423T173703
CREATED:20250910T104905Z
LAST-MODIFIED:20250910T104905Z
UID:36878-1762113600-1762588800@www.diocesidiroma.it
SUMMARY:Esercizi spirituali per il clero diocesano
DESCRIPTION:Esercizi Spirituali per il Clero Diocesano dalla cena di domenica 2 alla colazione di sabato 8 novembre – “Domus Aurea- Figlie della Chiesa”\, P. Ermes Ronchi. \n
URL:https://www.diocesidiroma.it/event/esercizi-spirituali-per-il-clero-diocesano/
CATEGORIES:Iniziative degli Uffici
END:VEVENT
END:VCALENDAR