BEGIN:VCALENDAR
VERSION:2.0
PRODID:-//DIOCESI DI ROMA - ECPv4.6.14.1//NONSGML v1.0//EN
CALSCALE:GREGORIAN
METHOD:PUBLISH
X-WR-CALNAME:DIOCESI DI ROMA
X-ORIGINAL-URL:https://www.diocesidiroma.it
X-WR-CALDESC:Eventi per DIOCESI DI ROMA
BEGIN:VEVENT
DTSTART;VALUE=DATE:20180601
DTEND;VALUE=DATE:20180604
DTSTAMP:20260421T120439
CREATED:20171228T141257Z
LAST-MODIFIED:20171228T141257Z
UID:720-1527811200-1528070399@www.diocesidiroma.it
SUMMARY:Esercizi spirituali
DESCRIPTION:
URL:https://www.diocesidiroma.it/event/esercizi-spirituali/
CATEGORIES:Iniziative degli Uffici
END:VEVENT
END:VCALENDAR