BEGIN:VCALENDAR
VERSION:2.0
PRODID:-//DIOCESI DI ROMA - ECPv4.6.14.1//NONSGML v1.0//EN
CALSCALE:GREGORIAN
METHOD:PUBLISH
X-WR-CALNAME:DIOCESI DI ROMA
X-ORIGINAL-URL:https://www.diocesidiroma.it
X-WR-CALDESC:Eventi per DIOCESI DI ROMA
BEGIN:VEVENT
DTSTART;VALUE=DATE:20200208
DTEND;VALUE=DATE:20200209
DTSTAMP:20260422T041714
CREATED:20190925T142333Z
LAST-MODIFIED:20190925T142513Z
UID:8726-1581120000-1581206399@www.diocesidiroma.it
SUMMARY:Esperienza di carità per gli adolescenti
DESCRIPTION:Esperienza di carità per gli adolescenti\, a cura del Servizio per la pastorale giovanile e del Centro per la pastorale sanitaria. \n
URL:https://www.diocesidiroma.it/event/esperienza-di-carita-per-gli-adolescenti/
CATEGORIES:Iniziative degli Uffici
END:VEVENT
END:VCALENDAR