BEGIN:VCALENDAR
VERSION:2.0
PRODID:-//DIOCESI DI ROMA - ECPv4.6.14.1//NONSGML v1.0//EN
CALSCALE:GREGORIAN
METHOD:PUBLISH
X-WR-CALNAME:DIOCESI DI ROMA
X-ORIGINAL-URL:https://www.diocesidiroma.it
X-WR-CALDESC:Eventi per DIOCESI DI ROMA
BEGIN:VEVENT
DTSTART;VALUE=DATE:20251212
DTEND;VALUE=DATE:20251213
DTSTAMP:20260422T143437
CREATED:20250911T062449Z
LAST-MODIFIED:20250911T062449Z
UID:37053-1765497600-1765583999@www.diocesidiroma.it
SUMMARY:Evento di restituzione alla Chiesa e alla Città per progetto "Accoglienza diffusa" (Uff. Caritas)
DESCRIPTION:Evento di restituzione alla Chiesa e alla Città per progetto “Accoglienza diffusa” (Uff. Caritas) \n
URL:https://www.diocesidiroma.it/event/evento-di-restituzione-alla-chiesa-e-alla-citta-per-progetto-accoglienza-diffusa-uff-caritas/
CATEGORIES:In Diocesi,Iniziative degli Uffici
END:VEVENT
END:VCALENDAR