BEGIN:VCALENDAR
VERSION:2.0
PRODID:-//DIOCESI DI ROMA - ECPv4.6.14.1//NONSGML v1.0//EN
CALSCALE:GREGORIAN
METHOD:PUBLISH
X-WR-CALNAME:DIOCESI DI ROMA
X-ORIGINAL-URL:https://www.diocesidiroma.it
X-WR-CALDESC:Eventi per DIOCESI DI ROMA
BEGIN:VEVENT
DTSTART;TZID=Europe/Rome:20190214T000000
DTEND;TZID=Europe/Rome:20190214T000000
DTSTAMP:20260421T065143
CREATED:20181010T071748Z
LAST-MODIFIED:20181010T071748Z
UID:4964-1550102400-1550102400@www.diocesidiroma.it
SUMMARY:Festa dei fidanzati a Santa Sabina
DESCRIPTION:Festa dei fidanzati presso la basilica di Santa Sabina all’Aventino\, a cura del Centro per la pastorale familiare. \n
URL:https://www.diocesidiroma.it/event/festa-dei-fidanzati-a-santa-sabina/
CATEGORIES:In Diocesi
END:VEVENT
END:VCALENDAR