BEGIN:VCALENDAR
VERSION:2.0
PRODID:-//DIOCESI DI ROMA - ECPv4.6.14.1//NONSGML v1.0//EN
CALSCALE:GREGORIAN
METHOD:PUBLISH
X-WR-CALNAME:DIOCESI DI ROMA
X-ORIGINAL-URL:https://www.diocesidiroma.it
X-WR-CALDESC:Eventi per DIOCESI DI ROMA
BEGIN:VEVENT
DTSTART;TZID=Europe/Rome:20240211T000000
DTEND;TZID=Europe/Rome:20240211T000000
DTSTAMP:20260421T042308
CREATED:20240122T121147Z
LAST-MODIFIED:20240122T121147Z
UID:28600-1707609600-1707609600@www.diocesidiroma.it
SUMMARY:Festa dei Fidanzati (Uff. past. familiare)
DESCRIPTION: Festa dei Fidanzati (Uff. past. familiare) \n
URL:https://www.diocesidiroma.it/event/festa-dei-fidanzati-uff-past-familiare-2/
CATEGORIES:In Diocesi,Iniziative degli Uffici
END:VEVENT
END:VCALENDAR