BEGIN:VCALENDAR
VERSION:2.0
PRODID:-//DIOCESI DI ROMA - ECPv4.6.14.1//NONSGML v1.0//EN
CALSCALE:GREGORIAN
METHOD:PUBLISH
X-WR-CALNAME:DIOCESI DI ROMA
X-ORIGINAL-URL:https://www.diocesidiroma.it
X-WR-CALDESC:Eventi per DIOCESI DI ROMA
BEGIN:VEVENT
DTSTART;TZID=Europe/Rome:20241026T000000
DTEND;TZID=Europe/Rome:20241026T000000
DTSTAMP:20260424T155840
CREATED:20240822T093716Z
LAST-MODIFIED:20240822T093716Z
UID:30600-1729900800-1729900800@www.diocesidiroma.it
SUMMARY:Festa dei Popoli nelle Prefetture - 26-27 ottobre
DESCRIPTION:Festa dei Popoli nelle Prefetture – 26-27 ottobre \n
URL:https://www.diocesidiroma.it/event/festa-dei-popoli-nelle-prefetture-26-27-ottobre/
CATEGORIES:In Diocesi
END:VEVENT
END:VCALENDAR