BEGIN:VCALENDAR
VERSION:2.0
PRODID:-//DIOCESI DI ROMA - ECPv4.6.14.1//NONSGML v1.0//EN
CALSCALE:GREGORIAN
METHOD:PUBLISH
X-WR-CALNAME:DIOCESI DI ROMA
X-ORIGINAL-URL:https://www.diocesidiroma.it
X-WR-CALDESC:Eventi per DIOCESI DI ROMA
BEGIN:VEVENT
DTSTART;TZID=Europe/Rome:20191026T100000
DTEND;TZID=Europe/Rome:20191026T100000
DTSTAMP:20260422T145316
CREATED:20190917T081957Z
LAST-MODIFIED:20190917T081957Z
UID:8433-1572084000-1572084000@www.diocesidiroma.it
SUMMARY:Festa dei volontari Caritas alla Cittadella della Carità
DESCRIPTION:Festa dei volontari Caritas alla Cittadella della Carità. \n
URL:https://www.diocesidiroma.it/event/festa-dei-volontari-caritas-alla-cittadella-della-carita/
CATEGORIES:Iniziative degli Uffici
END:VEVENT
END:VCALENDAR