BEGIN:VCALENDAR
VERSION:2.0
PRODID:-//DIOCESI DI ROMA - ECPv4.6.14.1//NONSGML v1.0//EN
CALSCALE:GREGORIAN
METHOD:PUBLISH
X-WR-CALNAME:DIOCESI DI ROMA
X-ORIGINAL-URL:https://www.diocesidiroma.it
X-WR-CALDESC:Eventi per DIOCESI DI ROMA
BEGIN:VEVENT
DTSTART;TZID=Europe/Rome:20190210T000000
DTEND;TZID=Europe/Rome:20190210T000000
DTSTAMP:20260421T002937
CREATED:20181010T071030Z
LAST-MODIFIED:20181010T071030Z
UID:4954-1549756800-1549756800@www.diocesidiroma.it
SUMMARY:Festa del Capodanno della comunità cinese
DESCRIPTION:Festa del Capodanno della comunità cinese\, parrocchia San Bernardino da Siena\, a cura dell’Ufficio Migrantes. \n
URL:https://www.diocesidiroma.it/event/festa-del-capodanno-della-comunita-cinese/
CATEGORIES:Iniziative degli Uffici
END:VEVENT
END:VCALENDAR