BEGIN:VCALENDAR
VERSION:2.0
PRODID:-//DIOCESI DI ROMA - ECPv4.6.14.1//NONSGML v1.0//EN
CALSCALE:GREGORIAN
METHOD:PUBLISH
X-WR-CALNAME:DIOCESI DI ROMA
X-ORIGINAL-URL:https://www.diocesidiroma.it
X-WR-CALDESC:Eventi per DIOCESI DI ROMA
BEGIN:VEVENT
DTSTART;TZID=Europe/Rome:20201011T000000
DTEND;TZID=Europe/Rome:20201011T000000
DTSTAMP:20260422T233407
CREATED:20200917T080636Z
LAST-MODIFIED:20200917T080914Z
UID:11657-1602374400-1602374400@www.diocesidiroma.it
SUMMARY:Festa della comunità brasiliana della Madonna Aparecida: processione da Santa Maria in Trastevere a Santa Maria della Luce
DESCRIPTION:Festa della comunità brasiliana della Madonna Aparecida: processione da Santa Maria in Trastevere a Santa Maria della Luce\, a cura dell’Ufficio Migrantes. \n
URL:https://www.diocesidiroma.it/event/festa-della-comunita-brasiliana-della-madonna-aparecida-processione-da-santa-maria-in-trastevere-a-santa-maria-della-luce-2/
CATEGORIES:Iniziative degli Uffici
END:VEVENT
END:VCALENDAR