BEGIN:VCALENDAR
VERSION:2.0
PRODID:-//DIOCESI DI ROMA - ECPv4.6.14.1//NONSGML v1.0//EN
CALSCALE:GREGORIAN
METHOD:PUBLISH
X-WR-CALNAME:DIOCESI DI ROMA
X-ORIGINAL-URL:https://www.diocesidiroma.it
X-WR-CALDESC:Eventi per DIOCESI DI ROMA
BEGIN:VEVENT
DTSTART;VALUE=DATE:20251012
DTEND;VALUE=DATE:20251013
DTSTAMP:20260422T072859
CREATED:20250910T105137Z
LAST-MODIFIED:20250910T105137Z
UID:36896-1760227200-1760313599@www.diocesidiroma.it
SUMMARY:Festa della Comunità Brasiliana della Madonna Aparecida\, S. Messa a SS. Redentore a Val Melaina (Uff. Migrantes per la pastorale della mobilità umana)
DESCRIPTION:Festa della Comunità Brasiliana della Madonna Aparecida\, S. Messa a SS. Redentore a Val Melaina (Uff. Migrantes per la pastorale della mobilità umana) \n
URL:https://www.diocesidiroma.it/event/festa-della-comunita-brasiliana-della-madonna-aparecida-s-messa-a-ss-redentore-a-val-melaina-uff-migrantes-per-la-pastorale-della-mobilita-umana/
CATEGORIES:Iniziative degli Uffici
END:VEVENT
END:VCALENDAR