BEGIN:VCALENDAR
VERSION:2.0
PRODID:-//DIOCESI DI ROMA - ECPv4.6.14.1//NONSGML v1.0//EN
CALSCALE:GREGORIAN
METHOD:PUBLISH
X-WR-CALNAME:DIOCESI DI ROMA
X-ORIGINAL-URL:https://www.diocesidiroma.it
X-WR-CALDESC:Eventi per DIOCESI DI ROMA
BEGIN:VEVENT
DTSTART;VALUE=DATE:20250921
DTEND;VALUE=DATE:20250922
DTSTAMP:20260424T183226
CREATED:20250910T102929Z
LAST-MODIFIED:20250910T102929Z
UID:36841-1758412800-1758499199@www.diocesidiroma.it
SUMMARY:Festa della Madonna del Cisne della Comunità Ecuadoregna - S. Giuseppe Cafasso (Uff. Migrantes per la pastorale della mobilità umana)
DESCRIPTION:Festa della Madonna del Cisne della Comunità Ecuadoregna – S. Giuseppe Cafasso (Uff. Migrantes per la pastorale della mobilità umana) \n
URL:https://www.diocesidiroma.it/event/festa-della-madonna-del-cisne-della-comunita-ecuadoregna-s-giuseppe-cafasso-uff-migrantes-per-la-pastorale-della-mobilita-umana/
CATEGORIES:In Diocesi,Iniziative degli Uffici
END:VEVENT
END:VCALENDAR