BEGIN:VCALENDAR
VERSION:2.0
PRODID:-//DIOCESI DI ROMA - ECPv4.6.14.1//NONSGML v1.0//EN
CALSCALE:GREGORIAN
METHOD:PUBLISH
X-WR-CALNAME:DIOCESI DI ROMA
X-ORIGINAL-URL:https://www.diocesidiroma.it
X-WR-CALDESC:Eventi per DIOCESI DI ROMA
BEGIN:VEVENT
DTSTART;TZID=Europe/Rome:20201011T000000
DTEND;TZID=Europe/Rome:20201011T000000
DTSTAMP:20260422T195617
CREATED:20200917T080518Z
LAST-MODIFIED:20200917T080518Z
UID:11655-1602374400-1602374400@www.diocesidiroma.it
SUMMARY:Festa della Madonna del Rosario: Santa Messa e processione della comunità capoverdiana
DESCRIPTION:Festa della Madonna del Rosario: Santa Messa e processione della comunità capoverdiana\, presso l’Istituto del Sacro Cuore a via Sicilia. A cura dell’Ufficio Migrantes. \n
URL:https://www.diocesidiroma.it/event/festa-della-madonna-del-rosario-santa-messa-e-processione-della-comunita-capoverdiana-2/
CATEGORIES:Iniziative degli Uffici
END:VEVENT
END:VCALENDAR