BEGIN:VCALENDAR
VERSION:2.0
PRODID:-//DIOCESI DI ROMA - ECPv4.6.14.1//NONSGML v1.0//EN
CALSCALE:GREGORIAN
METHOD:PUBLISH
X-WR-CALNAME:DIOCESI DI ROMA
X-ORIGINAL-URL:https://www.diocesidiroma.it
X-WR-CALDESC:Eventi per DIOCESI DI ROMA
BEGIN:VEVENT
DTSTART;VALUE=DATE:20260214
DTEND;VALUE=DATE:20260215
DTSTAMP:20260421T002946
CREATED:20250919T092602Z
LAST-MODIFIED:20250919T092602Z
UID:37337-1771027200-1771113599@www.diocesidiroma.it
SUMMARY:Festa della Madonna della Fiducia - SS.Cirillo e Metodio
DESCRIPTION:Festa della Madonna della Fiducia – SS.Cirillo e Metodio  \n
URL:https://www.diocesidiroma.it/event/festa-della-madonna-della-fiducia-ss-cirillo-e-metodio/
CATEGORIES:Giornate di sensibilizzazione
END:VEVENT
END:VCALENDAR