BEGIN:VCALENDAR
VERSION:2.0
PRODID:-//DIOCESI DI ROMA - ECPv4.6.14.1//NONSGML v1.0//EN
CALSCALE:GREGORIAN
METHOD:PUBLISH
X-WR-CALNAME:DIOCESI DI ROMA
X-ORIGINAL-URL:https://www.diocesidiroma.it
X-WR-CALDESC:Eventi per DIOCESI DI ROMA
BEGIN:VEVENT
DTSTART;TZID=Europe/Rome:20250517T183000
DTEND;TZID=Europe/Rome:20250517T183000
DTSTAMP:20260424T175903
CREATED:20250509T073227Z
LAST-MODIFIED:20250509T073227Z
UID:35541-1747506600-1747506600@www.diocesidiroma.it
SUMMARY:Festa della Madonna della Perseveranza – Pontificio Seminario Romano Minore
DESCRIPTION:Festa della Madonna della Perseveranza – Pontificio Seminario Romano Minore \n
URL:https://www.diocesidiroma.it/event/festa-della-madonna-della-perseveranza-pontificio-seminario-romano-minore/
CATEGORIES:Vicario Generale
END:VEVENT
END:VCALENDAR