BEGIN:VCALENDAR
VERSION:2.0
PRODID:-//DIOCESI DI ROMA - ECPv4.6.14.1//NONSGML v1.0//EN
CALSCALE:GREGORIAN
METHOD:PUBLISH
X-WR-CALNAME:DIOCESI DI ROMA
X-ORIGINAL-URL:https://www.diocesidiroma.it
X-WR-CALDESC:Eventi per DIOCESI DI ROMA
BEGIN:VEVENT
DTSTART;TZID=Europe/Rome:20231228T000000
DTEND;TZID=Europe/Rome:20231228T000000
DTSTAMP:20260421T003053
CREATED:20231115T143800Z
LAST-MODIFIED:20231115T143800Z
UID:27942-1703721600-1703721600@www.diocesidiroma.it
SUMMARY:"Festa della Riconoscenza" con i bambini degli oratori di Roma (COR)
DESCRIPTION:“Festa della Riconoscenza” con i bambini degli oratori di Roma (COR) \n
URL:https://www.diocesidiroma.it/event/festa-della-riconoscenza-con-i-bambini-degli-oratori-di-roma-cor/
CATEGORIES:In Diocesi,Iniziative degli Uffici
END:VEVENT
END:VCALENDAR