BEGIN:VCALENDAR
VERSION:2.0
PRODID:-//DIOCESI DI ROMA - ECPv4.6.14.1//NONSGML v1.0//EN
CALSCALE:GREGORIAN
METHOD:PUBLISH
X-WR-CALNAME:DIOCESI DI ROMA
X-ORIGINAL-URL:https://www.diocesidiroma.it
X-WR-CALDESC:Eventi per DIOCESI DI ROMA
BEGIN:VEVENT
DTSTART;TZID=Europe/Rome:20191227T000000
DTEND;TZID=Europe/Rome:20191227T000000
DTSTAMP:20260424T111535
CREATED:20191118T114119Z
LAST-MODIFIED:20191118T114119Z
UID:9339-1577404800-1577404800@www.diocesidiroma.it
SUMMARY:Festa della Riconoscenza per i ragazzi degli oratori
DESCRIPTION:Festa della Riconoscenza per i ragazzi degli oratori nella parrocchia di San Giovanni Bosco\, a cura del Centro oratori romani. \n
URL:https://www.diocesidiroma.it/event/festa-della-riconoscenza-per-i-ragazzi-degli-oratori/
CATEGORIES:Iniziative degli Uffici
END:VEVENT
END:VCALENDAR