BEGIN:VCALENDAR
VERSION:2.0
PRODID:-//DIOCESI DI ROMA - ECPv4.6.14.1//NONSGML v1.0//EN
CALSCALE:GREGORIAN
METHOD:PUBLISH
X-WR-CALNAME:DIOCESI DI ROMA
X-ORIGINAL-URL:https://www.diocesidiroma.it
X-WR-CALDESC:Eventi per DIOCESI DI ROMA
BEGIN:VEVENT
DTSTART;VALUE=DATE:20171228
DTEND;VALUE=DATE:20171229
DTSTAMP:20260425T102736
CREATED:20171228T120852Z
LAST-MODIFIED:20171228T120852Z
UID:484-1514419200-1514505599@www.diocesidiroma.it
SUMMARY:Festa della Riconoscenza per tutti i ragazzi degli oratori
DESCRIPTION:
URL:https://www.diocesidiroma.it/event/festa-della-riconoscenza-per-tutti-i-ragazzi-degli-oratori/
CATEGORIES:Iniziative degli Uffici
END:VEVENT
END:VCALENDAR