BEGIN:VCALENDAR
VERSION:2.0
PRODID:-//DIOCESI DI ROMA - ECPv4.6.14.1//NONSGML v1.0//EN
CALSCALE:GREGORIAN
METHOD:PUBLISH
X-WR-CALNAME:DIOCESI DI ROMA
X-ORIGINAL-URL:https://www.diocesidiroma.it
X-WR-CALDESC:Eventi per DIOCESI DI ROMA
BEGIN:VEVENT
DTSTART;VALUE=DATE:20251212
DTEND;VALUE=DATE:20251213
DTSTAMP:20260422T100253
CREATED:20250911T062826Z
LAST-MODIFIED:20250911T062826Z
UID:37057-1765497600-1765583999@www.diocesidiroma.it
SUMMARY:Festa della Virgen de Guadalupe della Comunità Messicana\, S. Messa presso Basilica di S. Pietro in Vaticano (Uff. Migrantes per la pastorale della mobilità umana)
DESCRIPTION:Festa della Virgen de Guadalupe della Comunità Messicana\, S. Messa presso Basilica di S. Pietro in Vaticano (Uff. Migrantes per la pastorale della mobilità umana) \n
URL:https://www.diocesidiroma.it/event/festa-della-virgen-de-guadalupe-della-comunita-messicana-s-messa-presso-basilica-di-s-pietro-in-vaticano-uff-migrantes-per-la-pastorale-della-mobilita-umana/
CATEGORIES:In Diocesi,Iniziative degli Uffici
END:VEVENT
END:VCALENDAR