BEGIN:VCALENDAR
VERSION:2.0
PRODID:-//DIOCESI DI ROMA - ECPv4.6.14.1//NONSGML v1.0//EN
CALSCALE:GREGORIAN
METHOD:PUBLISH
X-WR-CALNAME:DIOCESI DI ROMA
X-ORIGINAL-URL:https://www.diocesidiroma.it
X-WR-CALDESC:Eventi per DIOCESI DI ROMA
BEGIN:VEVENT
DTSTART;VALUE=DATE:20251116
DTEND;VALUE=DATE:20251117
DTSTAMP:20260423T005016
CREATED:20250910T121044Z
LAST-MODIFIED:20250910T121044Z
UID:36991-1763251200-1763337599@www.diocesidiroma.it
SUMMARY:Festa della Virgen del Quinche
DESCRIPTION:Festa della Virgen del Quinche (Equador)\, S. Messa al SS. Redentore a Val Melaina (Uff. Migrantes per la pastorale della mobilità umana). \n
URL:https://www.diocesidiroma.it/event/festa-della-virgen-del-quinche-2/
CATEGORIES:In Diocesi,Iniziative degli Uffici
END:VEVENT
END:VCALENDAR