BEGIN:VCALENDAR
VERSION:2.0
PRODID:-//DIOCESI DI ROMA - ECPv4.6.14.1//NONSGML v1.0//EN
CALSCALE:GREGORIAN
METHOD:PUBLISH
X-WR-CALNAME:DIOCESI DI ROMA
X-ORIGINAL-URL:https://www.diocesidiroma.it
X-WR-CALDESC:Eventi per DIOCESI DI ROMA
BEGIN:VEVENT
DTSTART;TZID=Europe/Rome:20181118T000000
DTEND;TZID=Europe/Rome:20181118T000000
DTSTAMP:20260421T181721
CREATED:20180913T075930Z
LAST-MODIFIED:20180913T075930Z
UID:4521-1542499200-1542499200@www.diocesidiroma.it
SUMMARY:Festa della Virgen del Quinche
DESCRIPTION:Santa Messa e processione per la festa mariana della Virgen del Quinche (Ecuador)\, presso la parrocchia di Santa Maria in Via\, promossa dall’Ufficio Migrantes della diocesi. \n
URL:https://www.diocesidiroma.it/event/festa-della-virgen-del-quinche/
CATEGORIES:Iniziative degli Uffici
END:VEVENT
END:VCALENDAR