BEGIN:VCALENDAR
VERSION:2.0
PRODID:-//DIOCESI DI ROMA - ECPv4.6.14.1//NONSGML v1.0//EN
CALSCALE:GREGORIAN
METHOD:PUBLISH
X-WR-CALNAME:DIOCESI DI ROMA
X-ORIGINAL-URL:https://www.diocesidiroma.it
X-WR-CALDESC:Eventi per DIOCESI DI ROMA
BEGIN:VEVENT
DTSTART;TZID=Europe/Rome:20201018T000000
DTEND;TZID=Europe/Rome:20201018T000000
DTSTAMP:20260424T020440
CREATED:20200917T084226Z
LAST-MODIFIED:20200917T084356Z
UID:11684-1602979200-1602979200@www.diocesidiroma.it
SUMMARY:Festa delle famiglie della comunità filippina con tutti i centri del Pontificio Collegio Filippino
DESCRIPTION:Festa delle famiglie della comunità filippina con tutti i centri del Pontificio Collegio Filippino\, a cura dell’Ufficio Migrantes. \n
URL:https://www.diocesidiroma.it/event/festa-delle-famiglie-della-comunita-filippina-con-tutti-i-centri-del-pontificio-collegio-filippino/
CATEGORIES:Iniziative degli Uffici
END:VEVENT
END:VCALENDAR