BEGIN:VCALENDAR
VERSION:2.0
PRODID:-//DIOCESI DI ROMA - ECPv4.6.14.1//NONSGML v1.0//EN
CALSCALE:GREGORIAN
METHOD:PUBLISH
X-WR-CALNAME:DIOCESI DI ROMA
X-ORIGINAL-URL:https://www.diocesidiroma.it
X-WR-CALDESC:Eventi per DIOCESI DI ROMA
BEGIN:VEVENT
DTSTART;TZID=Europe/Rome:20181014T000000
DTEND;TZID=Europe/Rome:20181014T000000
DTSTAMP:20260423T201111
CREATED:20180912T130405Z
LAST-MODIFIED:20180912T130405Z
UID:4402-1539475200-1539475200@www.diocesidiroma.it
SUMMARY:Festa delle famiglie filippine
DESCRIPTION:Festa delle famiglie filippine presso il Pontificio Collegio Filippino. \n
URL:https://www.diocesidiroma.it/event/festa-delle-famiglie-filippine/
CATEGORIES:Iniziative degli Uffici
END:VEVENT
END:VCALENDAR