BEGIN:VCALENDAR
VERSION:2.0
PRODID:-//DIOCESI DI ROMA - ECPv4.6.14.1//NONSGML v1.0//EN
CALSCALE:GREGORIAN
METHOD:PUBLISH
X-WR-CALNAME:DIOCESI DI ROMA
X-ORIGINAL-URL:https://www.diocesidiroma.it
X-WR-CALDESC:Eventi per DIOCESI DI ROMA
BEGIN:VEVENT
DTSTART;TZID=Europe/Rome:20191130T160000
DTEND;TZID=Europe/Rome:20191130T190000
DTSTAMP:20260421T025859
CREATED:20191118T082837Z
LAST-MODIFIED:20191118T082837Z
UID:9305-1575129600-1575140400@www.diocesidiroma.it
SUMMARY:Festa di Avvento e accoglienza dei nuovi gruppi dopo la Cresima ai Santi Aquila e Priscilla
DESCRIPTION:Festa di Avvento e accoglienza dei nuovi gruppi dopo la Cresima ai Santi Aquila e Priscilla\, a cura del Servizio per la pastorale giovanile. \n
URL:https://www.diocesidiroma.it/event/festa-di-avvento-e-accoglienza-dei-nuovi-gruppi-dopo-la-cresima-ai-santi-aquila-e-priscilla/
CATEGORIES:In Diocesi
END:VEVENT
END:VCALENDAR