BEGIN:VCALENDAR
VERSION:2.0
PRODID:-//DIOCESI DI ROMA - ECPv4.6.14.1//NONSGML v1.0//EN
CALSCALE:GREGORIAN
METHOD:PUBLISH
X-WR-CALNAME:DIOCESI DI ROMA
X-ORIGINAL-URL:https://www.diocesidiroma.it
X-WR-CALDESC:Eventi per DIOCESI DI ROMA
BEGIN:VEVENT
DTSTART;VALUE=DATE:20191124
DTEND;VALUE=DATE:20191125
DTSTAMP:20260424T014504
CREATED:20190917T124752Z
LAST-MODIFIED:20190917T124752Z
UID:8563-1574553600-1574639999@www.diocesidiroma.it
SUMMARY:Festa di Cristo Re
DESCRIPTION:Festa di Cristo Re \n
URL:https://www.diocesidiroma.it/event/festa-di-cristo-re-2/
CATEGORIES:Ricorrenze
END:VEVENT
END:VCALENDAR