BEGIN:VCALENDAR
VERSION:2.0
PRODID:-//DIOCESI DI ROMA - ECPv4.6.14.1//NONSGML v1.0//EN
CALSCALE:GREGORIAN
METHOD:PUBLISH
X-WR-CALNAME:DIOCESI DI ROMA
X-ORIGINAL-URL:https://www.diocesidiroma.it
X-WR-CALDESC:Eventi per DIOCESI DI ROMA
BEGIN:VEVENT
DTSTART;TZID=Europe/Rome:20180915T150000
DTEND;TZID=Europe/Rome:20180915T230000
DTSTAMP:20260422T172759
CREATED:20180912T103356Z
LAST-MODIFIED:20180912T103356Z
UID:4327-1537023600-1537052400@www.diocesidiroma.it
SUMMARY:Festa di fine estate del Cor
DESCRIPTION:Festa di fine estate del Cor a Cinecittà World. \n
URL:https://www.diocesidiroma.it/event/festa-di-fine-estate-del-cor/
CATEGORIES:In Diocesi
END:VEVENT
END:VCALENDAR