BEGIN:VCALENDAR
VERSION:2.0
PRODID:-//DIOCESI DI ROMA - ECPv4.6.14.1//NONSGML v1.0//EN
CALSCALE:GREGORIAN
METHOD:PUBLISH
X-WR-CALNAME:DIOCESI DI ROMA
X-ORIGINAL-URL:https://www.diocesidiroma.it
X-WR-CALDESC:Eventi per DIOCESI DI ROMA
BEGIN:VEVENT
DTSTART;VALUE=DATE:20260124
DTEND;VALUE=DATE:20260125
DTSTAMP:20260421T225057
CREATED:20250911T091804Z
LAST-MODIFIED:20250911T091804Z
UID:37127-1769212800-1769299199@www.diocesidiroma.it
SUMMARY:Festa di San Francesco di Sales patrono dei giornalisti
DESCRIPTION:Festa di San Francesco di Sales patrono dei giornalisti \n
URL:https://www.diocesidiroma.it/event/festa-di-san-francesco-di-sales-patrono-dei-giornalisti/
CATEGORIES:Giornate di sensibilizzazione
END:VEVENT
END:VCALENDAR