BEGIN:VCALENDAR
VERSION:2.0
PRODID:-//DIOCESI DI ROMA - ECPv4.6.14.1//NONSGML v1.0//EN
CALSCALE:GREGORIAN
METHOD:PUBLISH
X-WR-CALNAME:DIOCESI DI ROMA
X-ORIGINAL-URL:https://www.diocesidiroma.it
X-WR-CALDESC:Eventi per DIOCESI DI ROMA
BEGIN:VEVENT
DTSTART;TZID=Europe/Rome:20231210T093000
DTEND;TZID=Europe/Rome:20231210T093000
DTSTAMP:20260421T104430
CREATED:20231115T094455Z
LAST-MODIFIED:20231115T094455Z
UID:27920-1702200600-1702200600@www.diocesidiroma.it
SUMMARY:Festa di San Nicola (Comunità Ucraina) - Basilica Minore di Santa Sofia (Uff. Migrantes)
DESCRIPTION:Festa di San Nicola (Comunità Ucraina) – Basilica Minore di Santa Sofia (Uff. Migrantes) \n
URL:https://www.diocesidiroma.it/event/festa-di-san-nicola-comunita-ucraina-basilica-minore-di-santa-sofia-uff-migrantes/
CATEGORIES:In Diocesi,Iniziative degli Uffici
END:VEVENT
END:VCALENDAR