BEGIN:VCALENDAR
VERSION:2.0
PRODID:-//DIOCESI DI ROMA - ECPv4.6.14.1//NONSGML v1.0//EN
CALSCALE:GREGORIAN
METHOD:PUBLISH
X-WR-CALNAME:DIOCESI DI ROMA
X-ORIGINAL-URL:https://www.diocesidiroma.it
X-WR-CALDESC:Eventi per DIOCESI DI ROMA
BEGIN:VEVENT
DTSTART;TZID=Europe/Rome:20191222T000000
DTEND;TZID=Europe/Rome:20191222T000000
DTSTAMP:20260422T022838
CREATED:20191118T114023Z
LAST-MODIFIED:20191118T114023Z
UID:9337-1576972800-1576972800@www.diocesidiroma.it
SUMMARY:Festa di San Nicola della comunità ucraina ai Santi Sergio e Bacco
DESCRIPTION:Festa di San Nicola della comunità ucraina ai Santi Sergio e Bacco (Ufficio Migrantes). \n
URL:https://www.diocesidiroma.it/event/festa-di-san-nicola-della-comunita-ucraina-ai-santi-sergio-e-bacco/
CATEGORIES:Iniziative degli Uffici
END:VEVENT
END:VCALENDAR