BEGIN:VCALENDAR
VERSION:2.0
PRODID:-//DIOCESI DI ROMA - ECPv4.6.14.1//NONSGML v1.0//EN
CALSCALE:GREGORIAN
METHOD:PUBLISH
X-WR-CALNAME:DIOCESI DI ROMA
X-ORIGINAL-URL:https://www.diocesidiroma.it
X-WR-CALDESC:Eventi per DIOCESI DI ROMA
BEGIN:VEVENT
DTSTART;TZID=Europe/Rome:20221204T093000
DTEND;TZID=Europe/Rome:20221204T093000
DTSTAMP:20260422T001126
CREATED:20221128T095745Z
LAST-MODIFIED:20221128T095801Z
UID:24284-1670146200-1670146200@www.diocesidiroma.it
SUMMARY:Festa di San Nicola della Comunità Ucraina - Basilica Minore di Santa Sofia (Uff. Migrantes)
DESCRIPTION:Festa di San Nicola della Comunità Ucraina – Basilica Minore di Santa Sofia (Uff. Migrantes) \n
URL:https://www.diocesidiroma.it/event/festa-di-san-nicola-della-comunita-ucraina-basilica-minore-di-santa-sofia-uff-migrantes/
CATEGORIES:Iniziative degli Uffici
END:VEVENT
END:VCALENDAR