BEGIN:VCALENDAR
VERSION:2.0
PRODID:-//DIOCESI DI ROMA - ECPv4.6.14.1//NONSGML v1.0//EN
CALSCALE:GREGORIAN
METHOD:PUBLISH
X-WR-CALNAME:DIOCESI DI ROMA
X-ORIGINAL-URL:https://www.diocesidiroma.it
X-WR-CALDESC:Eventi per DIOCESI DI ROMA
BEGIN:VEVENT
DTSTART;TZID=Europe/Rome:20240317T000000
DTEND;TZID=Europe/Rome:20240317T000000
DTSTAMP:20260421T073251
CREATED:20240125T082612Z
LAST-MODIFIED:20240125T082612Z
UID:28685-1710633600-1710633600@www.diocesidiroma.it
SUMMARY:Festa di San Oscar Romero (Comunità del Salvador) -  Chiesa Santa Maria della Luce (Uff. Migrantes)
DESCRIPTION: Festa di San Oscar Romero (Comunità del Salvador) –  Chiesa Santa Maria della Luce (Uff. Migrantes)  \n
URL:https://www.diocesidiroma.it/event/festa-di-san-oscar-romero-comunita-del-salvador-chiesa-santa-maria-della-luce-uff-migrantes/
CATEGORIES:Iniziative degli Uffici
END:VEVENT
END:VCALENDAR