BEGIN:VCALENDAR
VERSION:2.0
PRODID:-//DIOCESI DI ROMA - ECPv4.6.14.1//NONSGML v1.0//EN
CALSCALE:GREGORIAN
METHOD:PUBLISH
X-WR-CALNAME:DIOCESI DI ROMA
X-ORIGINAL-URL:https://www.diocesidiroma.it
X-WR-CALDESC:Eventi per DIOCESI DI ROMA
BEGIN:VEVENT
DTSTART;TZID=Europe/Rome:20201018T000000
DTEND;TZID=Europe/Rome:20201018T000000
DTSTAMP:20260424T020437
CREATED:20200917T084452Z
LAST-MODIFIED:20200917T084452Z
UID:11686-1602979200-1602979200@www.diocesidiroma.it
SUMMARY:Festa patronale della comunità ucraina di rito bizantino ai Santi Sergio e Bacco
DESCRIPTION:Festa patronale della comunità ucraina di rito bizantino ai Santi Sergio e Bacco\, a cura dell’Ufficio Migrantes. \n
URL:https://www.diocesidiroma.it/event/festa-patronale-della-comunita-ucraina-di-rito-bizantino-ai-santi-sergio-e-bacco/
CATEGORIES:Iniziative degli Uffici
END:VEVENT
END:VCALENDAR