BEGIN:VCALENDAR
VERSION:2.0
PRODID:-//DIOCESI DI ROMA - ECPv4.6.14.1//NONSGML v1.0//EN
CALSCALE:GREGORIAN
METHOD:PUBLISH
X-WR-CALNAME:DIOCESI DI ROMA
X-ORIGINAL-URL:https://www.diocesidiroma.it
X-WR-CALDESC:Eventi per DIOCESI DI ROMA
BEGIN:VEVENT
DTSTART;TZID=Europe/Rome:20191020T000000
DTEND;TZID=Europe/Rome:20191020T000000
DTSTAMP:20260421T042359
CREATED:20190917T080047Z
LAST-MODIFIED:20190917T080108Z
UID:8409-1571529600-1571529600@www.diocesidiroma.it
SUMMARY:Festa patronale della comunità ucraina di rito bizantino nella parrocchia dei Santi Sergio e Bacco
DESCRIPTION:Festa patronale della comunità ucraina di rito bizantino nella parrocchia dei Santi Sergio e Bacco (Ufficio Migrantes diocesano). \n
URL:https://www.diocesidiroma.it/event/festa-patronale-della-comunita-ucraina-di-rito-bizantino-nella-parrocchia-dei-santi-sergio-e-bacco/
CATEGORIES:Iniziative degli Uffici
END:VEVENT
END:VCALENDAR